BEGIN:VCALENDAR
VERSION:2.0
PRODID:-//Unexmin - ECPv6.5.0//NONSGML v1.0//EN
CALSCALE:GREGORIAN
METHOD:PUBLISH
X-WR-CALNAME:Unexmin
X-ORIGINAL-URL:https://www.unexmin.eu
X-WR-CALDESC:Events for Unexmin
REFRESH-INTERVAL;VALUE=DURATION:PT1H
X-Robots-Tag:noindex
X-PUBLISHED-TTL:PT1H
BEGIN:VTIMEZONE
TZID:Europe/London
BEGIN:DAYLIGHT
TZOFFSETFROM:+0000
TZOFFSETTO:+0100
TZNAME:BST
DTSTART:20160327T010000
END:DAYLIGHT
BEGIN:STANDARD
TZOFFSETFROM:+0100
TZOFFSETTO:+0000
TZNAME:GMT
DTSTART:20161030T010000
END:STANDARD
END:VTIMEZONE
BEGIN:VEVENT
DTSTART;TZID=Europe/London:20160827T080000
DTEND;TZID=Europe/London:20160904T170000
DTSTAMP:20260419T202848
CREATED:20160711T112533Z
LAST-MODIFIED:20161018T103424Z
UID:411-1472284800-1473008400@www.unexmin.eu
SUMMARY:35th International Geological Congress
DESCRIPTION:“South Africa will be hosting the 35th ‘World Cup of Geosciences’ in 2016\, the prestigious International Geological Congress (IGC)\, which is undoubtedly the most important activity of the International Union of Geological Sciences (IUGS). The South African event will take place at the Cape Town International Convention Centre from 27 August to 4 September 2016. \nThe Council for Geoscience\, together with the Geological Society of South Africa and other collaborators from academia and industry\, is currently spearheading the preparations for the 35thIGC in South Africa. \nThe objectives of the IGC are as follows: \n\nContribute\, in collaboration with and under the auspices of the IUGS\, to the advancement of fundamental and applied research in the geological sciences.\nProvide a general assembly of geoscientists\, spanning a wide range of geoscience disciplines\, where ideas and information can be freely exchanged.\nEmphasise the geological specialities or challenges of the host country or region.\nProvide the opportunity\, by way of geological excursions\, to examine geological problems and features in the field.”\n\nDisclaimer: Information from the event website.
URL:https://www.unexmin.eu/event/35th-international-geologic-congress/
LOCATION:Cape Town\, South Africa
END:VEVENT
BEGIN:VEVENT
DTSTART;TZID=Europe/London:20160829T080000
DTEND;TZID=Europe/London:20160901T170000
DTSTAMP:20260419T202848
CREATED:20160711T124438Z
LAST-MODIFIED:20160713T112833Z
UID:427-1472457600-1472749200@www.unexmin.eu
SUMMARY:MMAR 2016 - 21st International Conference on Methods and Models in Automation and Robotics
DESCRIPTION:“The 21st International Conference on Methods and Models in Automation and Robotics is an annual conference that will take place in Międzyzdroje\, Poland\, between 29th August and 1st September 2016.” \nDisclaimer: Information from the event website
URL:https://www.unexmin.eu/event/mmar-2016-21st-international-conference-on-methods-and-models-in-automation-and-robotics/
LOCATION:Amber Baltic Hotel\, Międzyzdroje\, Poland
END:VEVENT
END:VCALENDAR