BEGIN:VCALENDAR
VERSION:2.0
PRODID:-//Unexmin - ECPv6.5.0//NONSGML v1.0//EN
CALSCALE:GREGORIAN
METHOD:PUBLISH
X-ORIGINAL-URL:https://www.unexmin.eu
X-WR-CALDESC:Events for Unexmin
REFRESH-INTERVAL;VALUE=DURATION:PT1H
X-Robots-Tag:noindex
X-PUBLISHED-TTL:PT1H
BEGIN:VTIMEZONE
TZID:Europe/London
BEGIN:DAYLIGHT
TZOFFSETFROM:+0000
TZOFFSETTO:+0100
TZNAME:BST
DTSTART:20160327T010000
END:DAYLIGHT
BEGIN:STANDARD
TZOFFSETFROM:+0100
TZOFFSETTO:+0000
TZNAME:GMT
DTSTART:20161030T010000
END:STANDARD
END:VTIMEZONE
BEGIN:VEVENT
DTSTART;TZID=Europe/London:20160729T080000
DTEND;TZID=Europe/London:20160731T180000
DTSTAMP:20260419T234232
CREATED:20160711T120557Z
LAST-MODIFIED:20160713T112902Z
UID:425-1469779200-1469988000@www.unexmin.eu
SUMMARY:ICINCO 2016: 13th International Conference on Informatics in Control\, Automation and Robotics
DESCRIPTION:“The purpose of the 13th International Conference on Informatics in Control\, Automation and Robotics (ICINCO) is to bring together researchers\, engineers and practitioners interested in the application of informatics to Control\, Automation and Robotics. Four simultaneous tracks will be held\, covering Intelligent Control Systems\, Optimization\, Robotics\, Automation\, Signal Processing\, Sensors\, Systems Modelling and Control\, and Industrial Informatics. Informatics applications are pervasive in many areas of Control\, Automation and Robotics; This conference intends to emphasize this connection.” \nDisclaimer: Information from the event website.
URL:https://www.unexmin.eu/event/icinco-2016-13th-international-conference-on-informatics-in-control-automation-and-robotics/
LOCATION:Lisbon Marriott Hotel\, Lisbon\, Portugal
END:VEVENT
END:VCALENDAR